BEGIN:VCALENDAR
VERSION:2.0
PRODID:-//CDU Flörsheim am Main - ECPv6.15.20//NONSGML v1.0//EN
CALSCALE:GREGORIAN
METHOD:PUBLISH
X-ORIGINAL-URL:https://www.cdu.info
X-WR-CALDESC:Veranstaltungen für CDU Flörsheim am Main
REFRESH-INTERVAL;VALUE=DURATION:PT1H
X-Robots-Tag:noindex
X-PUBLISHED-TTL:PT1H
BEGIN:VTIMEZONE
TZID:Europe/Paris
BEGIN:DAYLIGHT
TZOFFSETFROM:+0100
TZOFFSETTO:+0200
TZNAME:CEST
DTSTART:20250330T010000
END:DAYLIGHT
BEGIN:STANDARD
TZOFFSETFROM:+0200
TZOFFSETTO:+0100
TZNAME:CET
DTSTART:20251026T010000
END:STANDARD
BEGIN:DAYLIGHT
TZOFFSETFROM:+0100
TZOFFSETTO:+0200
TZNAME:CEST
DTSTART:20260329T010000
END:DAYLIGHT
BEGIN:STANDARD
TZOFFSETFROM:+0200
TZOFFSETTO:+0100
TZNAME:CET
DTSTART:20261025T010000
END:STANDARD
BEGIN:DAYLIGHT
TZOFFSETFROM:+0100
TZOFFSETTO:+0200
TZNAME:CEST
DTSTART:20270328T010000
END:DAYLIGHT
BEGIN:STANDARD
TZOFFSETFROM:+0200
TZOFFSETTO:+0100
TZNAME:CET
DTSTART:20271031T010000
END:STANDARD
END:VTIMEZONE
BEGIN:VEVENT
DTSTART;TZID=Europe/Paris:20260227T150000
DTEND;TZID=Europe/Paris:20260227T170000
DTSTAMP:20260421T203021
CREATED:20260222T101529Z
LAST-MODIFIED:20260222T101529Z
UID:10000364-1772204400-1772211600@www.cdu.info
SUMMARY:Stadtführung mit Bürgermeiser Dr. Bernd Blisch
DESCRIPTION:Wir laden Sie ganz herzlich ein zur Stadtführung mit Bürgermeister Dr. Bernd Blisch.  \nAm 27.02.2026 um 15 Uhr \nTreffpunkt: Gesundheitscampus Flörsheim am Main\, Hospitalstraße 15
URL:https://www.cdu.info/event/stadtfuehrung-mit-buergermeiser-dr-bernd-blisch/
CATEGORIES:Partei
ATTACH;FMTTYPE=image/jpeg:https://www.cdu.info/wp-content/uploads/2026/02/Bildschirmfoto-2026-02-22-um-11.13.22.jpg
ORGANIZER;CN="CDU Fl%C3%B6rsheim am Main":MAILTO:info@cdu-floersheim.de
END:VEVENT
END:VCALENDAR