BEGIN:VCALENDAR
VERSION:2.0
PRODID:-//CDU Flörsheim am Main - ECPv6.15.20//NONSGML v1.0//EN
CALSCALE:GREGORIAN
METHOD:PUBLISH
X-ORIGINAL-URL:https://www.cdu.info
X-WR-CALDESC:Veranstaltungen für CDU Flörsheim am Main
REFRESH-INTERVAL;VALUE=DURATION:PT1H
X-Robots-Tag:noindex
X-PUBLISHED-TTL:PT1H
BEGIN:VTIMEZONE
TZID:Europe/Paris
BEGIN:DAYLIGHT
TZOFFSETFROM:+0100
TZOFFSETTO:+0200
TZNAME:CEST
DTSTART:20250330T010000
END:DAYLIGHT
BEGIN:STANDARD
TZOFFSETFROM:+0200
TZOFFSETTO:+0100
TZNAME:CET
DTSTART:20251026T010000
END:STANDARD
BEGIN:DAYLIGHT
TZOFFSETFROM:+0100
TZOFFSETTO:+0200
TZNAME:CEST
DTSTART:20260329T010000
END:DAYLIGHT
BEGIN:STANDARD
TZOFFSETFROM:+0200
TZOFFSETTO:+0100
TZNAME:CET
DTSTART:20261025T010000
END:STANDARD
BEGIN:DAYLIGHT
TZOFFSETFROM:+0100
TZOFFSETTO:+0200
TZNAME:CEST
DTSTART:20270328T010000
END:DAYLIGHT
BEGIN:STANDARD
TZOFFSETFROM:+0200
TZOFFSETTO:+0100
TZNAME:CET
DTSTART:20271031T010000
END:STANDARD
END:VTIMEZONE
BEGIN:VEVENT
DTSTART;TZID=Europe/Paris:20260315T080000
DTEND;TZID=Europe/Paris:20260315T180000
DTSTAMP:20260419T165123
CREATED:20250410T070450Z
LAST-MODIFIED:20250410T070450Z
UID:10000358-1773561600-1773597600@www.cdu.info
SUMMARY:Kommunalwahl in Hessen
DESCRIPTION:Am Sonntag\, dem 15. März 2026\, wählen die Hessen ihre kommunalen Parlamente. In Flörsheim stehen die vier Ortsbeiräte in Flörsheim Stadtmitte\, Weilbach\, Wicker und Keramag-Falkenberg zu Wahl\, ebenso die Flörsheimer Stadtverordnetenversammlung sowie der Kreistag des Main-Taunus-Kreises. Die Wahllokale sind in der Zeit von 8:00 bis 18:00 Uhr geöffnet. Die Briefwahl ist sechs Wochen vorher möglich. 
URL:https://www.cdu.info/event/kommunalwahl-in-hessen/
LOCATION:Stadtgebiet Flörsheim am Main\, Flörsheim am Main\, Hessen\, 65439\, Deutschland
CATEGORIES:Partei,Stadt Flörsheim am Main
ATTACH;FMTTYPE=image/jpeg:https://www.cdu.info/wp-content/uploads/2025/04/Kommunalwahl-2026.jpg
GEO:50.0123996;8.4217125
END:VEVENT
END:VCALENDAR