BEGIN:VCALENDAR
VERSION:2.0
PRODID:-//CDU Flörsheim am Main - ECPv6.15.20//NONSGML v1.0//EN
CALSCALE:GREGORIAN
METHOD:PUBLISH
X-WR-CALNAME:CDU Flörsheim am Main
X-ORIGINAL-URL:https://www.cdu.info
X-WR-CALDESC:Veranstaltungen für CDU Flörsheim am Main
REFRESH-INTERVAL;VALUE=DURATION:PT1H
X-Robots-Tag:noindex
X-PUBLISHED-TTL:PT1H
BEGIN:VTIMEZONE
TZID:Europe/Paris
BEGIN:DAYLIGHT
TZOFFSETFROM:+0100
TZOFFSETTO:+0200
TZNAME:CEST
DTSTART:20190331T010000
END:DAYLIGHT
BEGIN:STANDARD
TZOFFSETFROM:+0200
TZOFFSETTO:+0100
TZNAME:CET
DTSTART:20191027T010000
END:STANDARD
BEGIN:DAYLIGHT
TZOFFSETFROM:+0100
TZOFFSETTO:+0200
TZNAME:CEST
DTSTART:20200329T010000
END:DAYLIGHT
BEGIN:STANDARD
TZOFFSETFROM:+0200
TZOFFSETTO:+0100
TZNAME:CET
DTSTART:20201025T010000
END:STANDARD
BEGIN:DAYLIGHT
TZOFFSETFROM:+0100
TZOFFSETTO:+0200
TZNAME:CEST
DTSTART:20210328T010000
END:DAYLIGHT
BEGIN:STANDARD
TZOFFSETFROM:+0200
TZOFFSETTO:+0100
TZNAME:CET
DTSTART:20211031T010000
END:STANDARD
BEGIN:DAYLIGHT
TZOFFSETFROM:+0100
TZOFFSETTO:+0200
TZNAME:CEST
DTSTART:20220327T010000
END:DAYLIGHT
BEGIN:STANDARD
TZOFFSETFROM:+0200
TZOFFSETTO:+0100
TZNAME:CET
DTSTART:20221030T010000
END:STANDARD
BEGIN:DAYLIGHT
TZOFFSETFROM:+0100
TZOFFSETTO:+0200
TZNAME:CEST
DTSTART:20230326T010000
END:DAYLIGHT
BEGIN:STANDARD
TZOFFSETFROM:+0200
TZOFFSETTO:+0100
TZNAME:CET
DTSTART:20231029T010000
END:STANDARD
BEGIN:DAYLIGHT
TZOFFSETFROM:+0100
TZOFFSETTO:+0200
TZNAME:CEST
DTSTART:20240331T010000
END:DAYLIGHT
BEGIN:STANDARD
TZOFFSETFROM:+0200
TZOFFSETTO:+0100
TZNAME:CET
DTSTART:20241027T010000
END:STANDARD
BEGIN:DAYLIGHT
TZOFFSETFROM:+0100
TZOFFSETTO:+0200
TZNAME:CEST
DTSTART:20250330T010000
END:DAYLIGHT
BEGIN:STANDARD
TZOFFSETFROM:+0200
TZOFFSETTO:+0100
TZNAME:CET
DTSTART:20251026T010000
END:STANDARD
BEGIN:DAYLIGHT
TZOFFSETFROM:+0100
TZOFFSETTO:+0200
TZNAME:CEST
DTSTART:20260329T010000
END:DAYLIGHT
BEGIN:STANDARD
TZOFFSETFROM:+0200
TZOFFSETTO:+0100
TZNAME:CET
DTSTART:20261025T010000
END:STANDARD
END:VTIMEZONE
BEGIN:VEVENT
DTSTART;TZID=Europe/Paris:20250305T200000
DTEND;TZID=Europe/Paris:20250305T223000
DTSTAMP:20260423T213543
CREATED:20241203T111231Z
LAST-MODIFIED:20241203T111231Z
UID:10000294-1741204800-1741213800@www.cdu.info
SUMMARY:politischer Aschermittwoch 2025 mit Heringsessen
DESCRIPTION:Zum politischen Aschermittwoch ins Joffche\n\n\nEs ist ein alter Brauch\, auch in Flörsheim\, sich am Aschermittwoch zum Heringsessen zu treffen. Zusammen mit der CDU treffen wir uns am Mittwoch\, 5. März 2025\, Im Joffche/in der Gaststätte „Deutscher Hof“ in der Grabenstraße\, für viele besser bekannt als „Joffche“. \nAb 19:00 Uhr ist für uns das Kolleg reserviert. Selbstverständlich ist Bürgermeister Dr. Bernd Blisch\, der Parteivorstand der CDU sowie die Mandatsträger ebenfalls für Gespräche anwesend. 
URL:https://www.cdu.info/event/politischer-aschermittwoch-2025-mit-heringsessen/
LOCATION:„Joffche“ Deutscher Hof\, Grabenstraße 42\, Flörsheim am Main\, Hessen\, 65439\, Deutschland
CATEGORIES:Kreisverband,Partei
ATTACH;FMTTYPE=image/jpeg:https://www.cdu.info/wp-content/uploads/2024/12/Kopie-von-CDU-Stellungnahme-Krimling.jpg
ORGANIZER;CN="CDU Fl%C3%B6rsheim am Main":MAILTO:info@cdu-floersheim.de
GEO:50.0115791;8.4261695
X-APPLE-STRUCTURED-LOCATION;VALUE=URI;X-ADDRESS=„Joffche“ Deutscher Hof Grabenstraße 42 Flörsheim am Main Hessen 65439 Deutschland;X-APPLE-RADIUS=500;X-TITLE=Grabenstraße 42:geo:8.4261695,50.0115791
END:VEVENT
BEGIN:VEVENT
DTSTART;TZID=Europe/Paris:20230222T190000
DTEND;TZID=Europe/Paris:20230222T220000
DTSTAMP:20260423T213543
CREATED:20190108T134007Z
LAST-MODIFIED:20230108T141454Z
UID:10000203-1677092400-1677103200@www.cdu.info
SUMMARY:politischer Aschermittwoch 2023 mit Heringsessen
DESCRIPTION:Zum politischen Aschermittwoch ins Joffche\n\n\nEs ist ein alter Brauch\, auch in Flörsheim\, sich am Aschermittwoch zum Heringsessen zu treffen. Zusammen mit der CDU treffen wir uns am Mittwoch\, 22. Februar 2023\, in der Gaststätte „Deutscher Hof“ in der Grabenstraße\, für viele besser bekannt als „Joffche“. \nAb 18.00 Uhr ist für uns das Kolleg reserviert. Selbstverständlich ist Bürgermeister Dr. Bernd Blisch\, der Parteivorstand der CDU sowie die Mandatsträger ebenfalls für Gespräche anwesend. 
URL:https://www.cdu.info/event/politischer-aschermittwoch-2023-mit-heringsessen/
LOCATION:„Joffche“ Deutscher Hof\, Grabenstraße 42\, Flörsheim am Main\, Hessen\, 65439\, Deutschland
CATEGORIES:Kreisverband,Partei
ATTACH;FMTTYPE=image/jpeg:https://www.cdu.info/wp-content/uploads/2019/01/Heringsessen.jpg
ORGANIZER;CN="CDU Fl%C3%B6rsheim am Main":MAILTO:info@cdu-floersheim.de
GEO:50.0115791;8.4261695
X-APPLE-STRUCTURED-LOCATION;VALUE=URI;X-ADDRESS=„Joffche“ Deutscher Hof Grabenstraße 42 Flörsheim am Main Hessen 65439 Deutschland;X-APPLE-RADIUS=500;X-TITLE=Grabenstraße 42:geo:8.4261695,50.0115791
END:VEVENT
BEGIN:VEVENT
DTSTART;TZID=Europe/Paris:20200226T200000
DTEND;TZID=Europe/Paris:20200226T220000
DTSTAMP:20260423T213543
CREATED:20191108T133033Z
LAST-MODIFIED:20191108T134005Z
UID:10000209-1582747200-1582754400@www.cdu.info
SUMMARY:Politischer Aschermittwoch
DESCRIPTION:
URL:https://www.cdu.info/event/politischer-aschermittwoch/
LOCATION:„Joffche“ Deutscher Hof\, Grabenstraße 42\, Flörsheim am Main\, Hessen\, 65439\, Deutschland
CATEGORIES:Partei
ORGANIZER;CN="CDU-Fraktion Fl%C3%B6rsheim am Main":MAILTO:info@cdu-floersheim.de
GEO:50.0115791;8.4261695
X-APPLE-STRUCTURED-LOCATION;VALUE=URI;X-ADDRESS=„Joffche“ Deutscher Hof Grabenstraße 42 Flörsheim am Main Hessen 65439 Deutschland;X-APPLE-RADIUS=500;X-TITLE=Grabenstraße 42:geo:8.4261695,50.0115791
END:VEVENT
END:VCALENDAR