BEGIN:VCALENDAR
VERSION:2.0
PRODID:-//CDU Flörsheim am Main - ECPv6.15.20//NONSGML v1.0//EN
CALSCALE:GREGORIAN
METHOD:PUBLISH
X-ORIGINAL-URL:https://www.cdu.info
X-WR-CALDESC:Veranstaltungen für CDU Flörsheim am Main
REFRESH-INTERVAL;VALUE=DURATION:PT1H
X-Robots-Tag:noindex
X-PUBLISHED-TTL:PT1H
BEGIN:VTIMEZONE
TZID:Europe/Paris
BEGIN:DAYLIGHT
TZOFFSETFROM:+0100
TZOFFSETTO:+0200
TZNAME:CEST
DTSTART:20180325T010000
END:DAYLIGHT
BEGIN:STANDARD
TZOFFSETFROM:+0200
TZOFFSETTO:+0100
TZNAME:CET
DTSTART:20181028T010000
END:STANDARD
BEGIN:DAYLIGHT
TZOFFSETFROM:+0100
TZOFFSETTO:+0200
TZNAME:CEST
DTSTART:20190331T010000
END:DAYLIGHT
BEGIN:STANDARD
TZOFFSETFROM:+0200
TZOFFSETTO:+0100
TZNAME:CET
DTSTART:20191027T010000
END:STANDARD
BEGIN:DAYLIGHT
TZOFFSETFROM:+0100
TZOFFSETTO:+0200
TZNAME:CEST
DTSTART:20200329T010000
END:DAYLIGHT
BEGIN:STANDARD
TZOFFSETFROM:+0200
TZOFFSETTO:+0100
TZNAME:CET
DTSTART:20201025T010000
END:STANDARD
END:VTIMEZONE
BEGIN:VEVENT
DTSTART;TZID=Europe/Paris:20191208T184500
DTEND;TZID=Europe/Paris:20191208T200000
DTSTAMP:20260421T190813
CREATED:20191128T202922Z
LAST-MODIFIED:20191128T202922Z
UID:10000217-1575830700-1575835200@www.cdu.info
SUMMARY:Besuch des Wickerer Weihnachtsmarkts
DESCRIPTION:Besuch des Wickerer Weihnachtsmarkts zusammen mit Staatsminister Axel Wintermeyer und Bundestagsabgeordneten Norbert Altenkamp
URL:https://www.cdu.info/event/besuch-des-wickerer-weihnachtsmarkts/
LOCATION:Tor zum Rheingau\, Taunusstraße\, Wicker\, Deutschland
CATEGORIES:Partei
ORGANIZER;CN="CDU Fl%C3%B6rsheim am Main":MAILTO:info@cdu-floersheim.de
GEO:50.0285637;8.4019109
X-APPLE-STRUCTURED-LOCATION;VALUE=URI;X-ADDRESS=Tor zum Rheingau Taunusstraße Wicker Deutschland;X-APPLE-RADIUS=500;X-TITLE=Taunusstraße:geo:8.4019109,50.0285637
END:VEVENT
BEGIN:VEVENT
DTSTART;TZID=Europe/Paris:20191129T160000
DTEND;TZID=Europe/Paris:20191129T180000
DTSTAMP:20260421T190813
CREATED:20191115T143648Z
LAST-MODIFIED:20191115T143648Z
UID:10000216-1575043200-1575050400@www.cdu.info
SUMMARY:Adventskranz stecken am Tor zum Rheingau
DESCRIPTION:
URL:https://www.cdu.info/event/adventskranz-stecken-am-tor-zum-rheingau/
LOCATION:Tor zum Rheingau\, Taunusstraße\, Wicker\, Deutschland
CATEGORIES:Partei
ORGANIZER;CN="CDU-Fraktion Fl%C3%B6rsheim am Main":MAILTO:info@cdu-floersheim.de
GEO:50.0285637;8.4019109
X-APPLE-STRUCTURED-LOCATION;VALUE=URI;X-ADDRESS=Tor zum Rheingau Taunusstraße Wicker Deutschland;X-APPLE-RADIUS=500;X-TITLE=Taunusstraße:geo:8.4019109,50.0285637
END:VEVENT
END:VCALENDAR