BEGIN:VCALENDAR
VERSION:2.0
PRODID:-//CDU Flörsheim am Main - ECPv6.15.20//NONSGML v1.0//EN
CALSCALE:GREGORIAN
METHOD:PUBLISH
X-WR-CALNAME:CDU Flörsheim am Main
X-ORIGINAL-URL:https://www.cdu.info
X-WR-CALDESC:Veranstaltungen für CDU Flörsheim am Main
REFRESH-INTERVAL;VALUE=DURATION:PT1H
X-Robots-Tag:noindex
X-PUBLISHED-TTL:PT1H
BEGIN:VTIMEZONE
TZID:Europe/Paris
BEGIN:DAYLIGHT
TZOFFSETFROM:+0100
TZOFFSETTO:+0200
TZNAME:CEST
DTSTART:20170326T010000
END:DAYLIGHT
BEGIN:STANDARD
TZOFFSETFROM:+0200
TZOFFSETTO:+0100
TZNAME:CET
DTSTART:20171029T010000
END:STANDARD
BEGIN:DAYLIGHT
TZOFFSETFROM:+0100
TZOFFSETTO:+0200
TZNAME:CEST
DTSTART:20180325T010000
END:DAYLIGHT
BEGIN:STANDARD
TZOFFSETFROM:+0200
TZOFFSETTO:+0100
TZNAME:CET
DTSTART:20181028T010000
END:STANDARD
BEGIN:DAYLIGHT
TZOFFSETFROM:+0100
TZOFFSETTO:+0200
TZNAME:CEST
DTSTART:20190331T010000
END:DAYLIGHT
BEGIN:STANDARD
TZOFFSETFROM:+0200
TZOFFSETTO:+0100
TZNAME:CET
DTSTART:20191027T010000
END:STANDARD
END:VTIMEZONE
BEGIN:VEVENT
DTSTART;TZID=Europe/Paris:20180831T180000
DTEND;TZID=Europe/Paris:20180831T200000
DTSTAMP:20260423T165039
CREATED:20180825T174457Z
LAST-MODIFIED:20180825T175012Z
UID:10000197-1535738400-1535745600@www.cdu.info
SUMMARY:Auf einen Wein mit Axel Wintermeyer
DESCRIPTION:Wir laden Sie ein auf einen Wein mit Staatsminister und unserem Landtagsabgeordneten Axel Wintermeyer\, der sich an der Landtagswahl am 28. Oktober 2018 zur Wiederwahl im Wahlkreis 33 stellt\, zu dem auch Flörsheim zählt. Kommen Sie gerne vorbei\, die Mandatsträger der CDU Flörsheim am Main werden ebenso anwesend sein.  \nOrt: Weinprobierstand am Mainufer (Artelbrückstraße)\, 65439 Flörsheim am Main \nTermin: Freitag\, den 31. August 2018\, um 17 Uhr \nWebseite: http://www.axel-wintermeyer.de
URL:https://www.cdu.info/event/auf-einen-wein-mit-axel-wintermeyer/
LOCATION:Weinprobierstand\, Mainufer Flörsheim\, Artelbrückstraße\, Flörsheim am Main\, Hessen\, 65439\, Deutschland
CATEGORIES:Kreisverband,Partei
ATTACH;FMTTYPE=image/jpeg:https://www.cdu.info/wp-content/uploads/2018/08/Auf-einen-Wein-31.08.jpg
ORGANIZER;CN="CDU Fl%C3%B6rsheim am Main":MAILTO:info@cdu-floersheim.de
GEO:50.0133006;8.4327418
X-APPLE-STRUCTURED-LOCATION;VALUE=URI;X-ADDRESS=Weinprobierstand Mainufer Flörsheim Artelbrückstraße Flörsheim am Main Hessen 65439 Deutschland;X-APPLE-RADIUS=500;X-TITLE=Artelbrückstraße:geo:8.4327418,50.0133006
END:VEVENT
END:VCALENDAR